BEGIN:VCALENDAR
VERSION:2.0
PRODID:-//Aefat - ECPv6.15.20//NONSGML v1.0//EN
CALSCALE:GREGORIAN
METHOD:PUBLISH
X-WR-CALNAME:Aefat
X-ORIGINAL-URL:https://aefat.es
X-WR-CALDESC:Eventos para Aefat
REFRESH-INTERVAL;VALUE=DURATION:PT1H
X-Robots-Tag:noindex
X-PUBLISHED-TTL:PT1H
BEGIN:VTIMEZONE
TZID:UTC
BEGIN:STANDARD
TZOFFSETFROM:+0000
TZOFFSETTO:+0000
TZNAME:UTC
DTSTART:20250101T000000
END:STANDARD
END:VTIMEZONE
BEGIN:VEVENT
DTSTART;TZID=UTC:20260426T090000
DTEND;TZID=UTC:20260426T170000
DTSTAMP:20260424T141458
CREATED:20260424T102904Z
LAST-MODIFIED:20260424T103212Z
UID:6773-1777194000-1777222800@aefat.es
SUMMARY:Zurich Rock ‘n’ Roll Running Series Madrid - 2026
DESCRIPTION:
URL:https://aefat.es/eventos/zurich-rock-n-roll-running-series-madrid-2026/
LOCATION:Ciudad de Madrid\, Pza. San Juan de la Cruz\, Madrid\, Madrid\, Spain
CATEGORIES:Zurich maratones
END:VEVENT
BEGIN:VEVENT
DTSTART;TZID=UTC:20260513T183000
DTEND;TZID=UTC:20260513T213000
DTSTAMP:20260424T141458
CREATED:20260424T120954Z
LAST-MODIFIED:20260424T120954Z
UID:6794-1778697000-1778707800@aefat.es
SUMMARY:Exhibición extraescolares 2026 - British School Málaga
DESCRIPTION:
URL:https://aefat.es/eventos/exhibicion-extraescolares-2026-british-school-malaga/
LOCATION:Auditorio Edgar Neville\, Calle Pacífico\, 54\, Málaga\, Málaga\, 29004\, Spain
CATEGORIES:Eventos solidarios
END:VEVENT
BEGIN:VEVENT
DTSTART;VALUE=DATE:20260605
DTEND;VALUE=DATE:20260607
DTSTAMP:20260424T141458
CREATED:20260424T115842Z
LAST-MODIFIED:20260424T115842Z
UID:6789-1780617600-1780790399@aefat.es
SUMMARY:IV Festi AEFAT Orduña 2026
DESCRIPTION:
URL:https://aefat.es/eventos/iv-festi-aefat-orduna-2026/
LOCATION:Orduña\, Orduña\, Spain
CATEGORIES:Festival Orduña
ORGANIZER;CN="AEFAT":MAILTO:festiaefatorduna@gmail.com
END:VEVENT
BEGIN:VEVENT
DTSTART;TZID=UTC:20261122T090000
DTEND;TZID=UTC:20261122T170000
DTSTAMP:20260424T141458
CREATED:20260424T121653Z
LAST-MODIFIED:20260424T121653Z
UID:6799-1795338000-1795366800@aefat.es
SUMMARY:Zurich Maratón Donostia San Sebastián
DESCRIPTION:
URL:https://aefat.es/eventos/zurich-maraton-donostia-san-sebastian/
LOCATION:Donostia / San Sebastián\, Calle Hernani\, San Sebastián\, Guipúzcoa
CATEGORIES:Zurich maratones
END:VEVENT
BEGIN:VEVENT
DTSTART;TZID=UTC:20261206T090000
DTEND;TZID=UTC:20261206T170000
DTSTAMP:20260424T141458
CREATED:20260424T122325Z
LAST-MODIFIED:20260424T122414Z
UID:6803-1796547600-1796576400@aefat.es
SUMMARY:Zurich Maratón de Valencia - Trinidad Alfonso 2026
DESCRIPTION:
URL:https://aefat.es/eventos/zurich-maraton-de-valencia-trinidad-alfonso-2026/
LOCATION:Ciudad de Valencia\, Plaça de la Marató\, Valencia\, Valencia\, Spain
CATEGORIES:Zurich maratones
END:VEVENT
END:VCALENDAR