BEGIN:VCALENDAR
VERSION:2.0
PRODID:-//Aefat - ECPv6.15.20//NONSGML v1.0//EN
CALSCALE:GREGORIAN
METHOD:PUBLISH
X-WR-CALNAME:Aefat
X-ORIGINAL-URL:https://aefat.es
X-WR-CALDESC:Eventos para Aefat
REFRESH-INTERVAL;VALUE=DURATION:PT1H
X-Robots-Tag:noindex
X-PUBLISHED-TTL:PT1H
BEGIN:VTIMEZONE
TZID:Europe/Madrid
BEGIN:DAYLIGHT
TZOFFSETFROM:+0100
TZOFFSETTO:+0200
TZNAME:CEST
DTSTART:20250330T010000
END:DAYLIGHT
BEGIN:STANDARD
TZOFFSETFROM:+0200
TZOFFSETTO:+0100
TZNAME:CET
DTSTART:20251026T010000
END:STANDARD
BEGIN:DAYLIGHT
TZOFFSETFROM:+0100
TZOFFSETTO:+0200
TZNAME:CEST
DTSTART:20260329T010000
END:DAYLIGHT
BEGIN:STANDARD
TZOFFSETFROM:+0200
TZOFFSETTO:+0100
TZNAME:CET
DTSTART:20261025T010000
END:STANDARD
BEGIN:DAYLIGHT
TZOFFSETFROM:+0100
TZOFFSETTO:+0200
TZNAME:CEST
DTSTART:20270328T010000
END:DAYLIGHT
BEGIN:STANDARD
TZOFFSETFROM:+0200
TZOFFSETTO:+0100
TZNAME:CET
DTSTART:20271031T010000
END:STANDARD
END:VTIMEZONE
BEGIN:VEVENT
DTSTART;TZID=Europe/Madrid:20261122T100000
DTEND;TZID=Europe/Madrid:20261122T180000
DTSTAMP:20260425T133854
CREATED:20260424T101653Z
LAST-MODIFIED:20260424T101653Z
UID:6799-1795341600-1795370400@aefat.es
SUMMARY:Zurich Maratón Donostia San Sebastián
DESCRIPTION:
URL:https://aefat.es/eventos/zurich-maraton-donostia-san-sebastian/
LOCATION:Donostia / San Sebastián\, Calle Hernani\, San Sebastián\, Guipúzcoa
CATEGORIES:Zurich maratones
END:VEVENT
BEGIN:VEVENT
DTSTART;TZID=Europe/Madrid:20261206T100000
DTEND;TZID=Europe/Madrid:20261206T180000
DTSTAMP:20260425T133854
CREATED:20260424T102325Z
LAST-MODIFIED:20260424T102414Z
UID:6803-1796551200-1796580000@aefat.es
SUMMARY:Zurich Maratón de Valencia - Trinidad Alfonso 2026
DESCRIPTION:
URL:https://aefat.es/eventos/zurich-maraton-de-valencia-trinidad-alfonso-2026/
LOCATION:Ciudad de Valencia\, Plaça de la Marató\, Valencia\, Valencia\, Spain
CATEGORIES:Zurich maratones
END:VEVENT
END:VCALENDAR